BEGIN:VCALENDAR
VERSION:2.0
PRODID:-//eventon.com NONSGML v1.0//EN
BEGIN:VEVENT
UID:69e58dc176dd7
DTSTAMP:20260420T022153
DTSTART:20211019
DTEND:20211020
TZID:Europe/Warsaw
LOCATION:https://pasific.pan.pl/the-third-pasific-navigators-meeting/
SUMMARY:The Third PASIFIC Navigators Meeting
DESCRIPTION: The Third PASIFIC Navigators Meeting\nhttps://pasific.pan.pl/events/the-third-pasific-navigators-meeting/var/event_access
URL:https://pasific.pan.pl/events/the-third-pasific-navigators-meeting/var/event_access
END:VEVENT
END:VCALENDAR